BEGIN:VCALENDAR
VERSION:2.0
PRODID:-//YourBrand//NONSGML v1.0//HU
CALSCALE:GREGORIAN
BEGIN:VEVENT
UID:event-4539@recruitechcee.com
DTSTAMP:20260421T221820Z
DTSTART:20260529T094000Z
DTEND:20260529T095500Z
SUMMARY:PastaHR: How ALDI has improved application quality and reduced screening effort by over 60%
LOCATION:Central European University, Nádor utca 15., 1051 Budapest, Hungary
DESCRIPTION:At recruiTECH CEE x HRTECH CEE 2026, five selected HR tech startups will pitch their solutions live in front of an expert jury and an audience of HR decision-makers — competing for the ultimate prize: Gold Sponsorship at the 2027 event. 🏆\n&nbsp;\nJuries: Hung Lee, Agata Komender
END:VEVENT
END:VCALENDAR
