BEGIN:VCALENDAR
VERSION:2.0
PRODID:-//YourBrand//NONSGML v1.0//HU
CALSCALE:GREGORIAN
BEGIN:VEVENT
UID:event-4529@recruitechcee.com
DTSTAMP:20260421T221549Z
DTSTART:20260529T105500Z
DTEND:20260529T111000Z
SUMMARY:From Gut Feeling to Predictive Hiring
LOCATION:Central European University, Nádor utca 15., 1051 Budapest, Hungary
DESCRIPTION:“Hiring for fit” is one of the most cited and least defined drivers of hiring decisions. While often framed as cultural alignment, in practice it blends role fit, team dynamics, and individual bias. Drawing on insights from real recruitment processes, this talk introduces Ruth, a predictive hiring engine that models how a candidate will actually perform within a specific team and company environment before the hire is made. Built on a proprietary behavioral dataset developed over more than a decade, Ruth brings team compatibility intelligence directly into hiring workflows. The result is more consistent, transparent, and data-driven hiring, without losing the human element.\nAt recruiTECH CEE x HRTECH CEE 2026, five selected HR tech startups will pitch their solutions live in front of an expert jury and an audience of HR decision-makers — competing for the ultimate prize: Gold Sponsorship at the 2027 event. 🏆\n&nbsp;\nJuries: Hung Lee, Agata Komender
END:VEVENT
END:VCALENDAR
