BEGIN:VCALENDAR
VERSION:2.0
PRODID:-//YourBrand//NONSGML v1.0//HU
CALSCALE:GREGORIAN
BEGIN:VEVENT
UID:event-4525@recruitechcee.com
DTSTAMP:20260421T202108Z
DTSTART:20260529T104000Z
DTEND:20260529T105500Z
SUMMARY:Conversation Intelligence for Hiring Performance
LOCATION:Central European University, Nádor utca 15., 1051 Budapest, Hungary
DESCRIPTION:"We don't have a talent problem. We have a signal problem!"\n&nbsp;\nAt recruiTECH CEE x HRTECH CEE 2026, five selected HR tech startups will pitch their solutions live in front of an expert jury and an audience of HR decision-makers — competing for the ultimate prize: Gold Sponsorship at the 2027 event. 🏆\n&nbsp;\nJuries: Hung Lee, Agata Komender
END:VEVENT
END:VCALENDAR
