BEGIN:VCALENDAR
VERSION:2.0
PRODID:-//YourBrand//NONSGML v1.0//HU
CALSCALE:GREGORIAN
BEGIN:VEVENT
UID:event-4521@recruitechcee.com
DTSTAMP:20260421T221925Z
DTSTART:20260529T102000Z
DTEND:20260529T103500Z
SUMMARY:Staffly
LOCATION:Central European University, Nádor utca 15., 1051 Budapest, Hungary
DESCRIPTION:At recruiTECH CEE x HRTECH CEE 2026, five selected HR tech startups will pitch their solutions live in front of an expert jury and an audience of HR decision-makers — competing for the ultimate prize: Gold Sponsorship at the 2027 event. 🏆\n&nbsp;\nJuries: Hung Lee, Agata Komender
END:VEVENT
END:VCALENDAR
