BEGIN:VCALENDAR
VERSION:2.0
PRODID:-//YourBrand//NONSGML v1.0//HU
CALSCALE:GREGORIAN
BEGIN:VEVENT
UID:event-4488@recruitechcee.com
DTSTAMP:20260421T221925Z
DTSTART:20260528T161500Z
DTEND:20260528T165000Z
SUMMARY:Recruitment Reshape: Skills, Experience, and the AI Shift
LOCATION:Central European University, Nádor utca 15., 1051 Budapest, Hungary
DESCRIPTION:How AI is transforming talent assessment, candidate experience, and the future of work
END:VEVENT
END:VCALENDAR
