BEGIN:VCALENDAR
VERSION:2.0
PRODID:-//YourBrand//NONSGML v1.0//HU
CALSCALE:GREGORIAN
BEGIN:VEVENT
UID:event-4484@recruitechcee.com
DTSTAMP:20260421T221549Z
DTSTART:20260528T123500Z
DTEND:20260528T130000Z
SUMMARY:Hiring Managers: Partner or Obstacle? Let&#8217;s Find Out Together
LOCATION:Central European University, Nádor utca 15., 1051 Budapest, Hungary
DESCRIPTION:Every recruiter knows the feeling: a job brief that changes halfway through, a hiring manager who ghosts the process, feedback that arrives too late. Hiring manager engagement is one of the most talked-about frustrations in TA — and one of the least solved.\nIn this interactive session, we map real solutions together. Using live audience polls and open discussion, we explore what drives disengagement, what great collaboration looks like, and what TA teams can do differently to make hiring managers genuine partners. Come ready to share your experience — and leave with ideas you can use.
END:VEVENT
END:VCALENDAR
