BEGIN:VCALENDAR
VERSION:2.0
PRODID:-//YourBrand//NONSGML v1.0//HU
CALSCALE:GREGORIAN
BEGIN:VEVENT
UID:event-4480@recruitechcee.com
DTSTAMP:20260421T221449Z
DTSTART:20260529T102000Z
DTEND:20260529T103500Z
SUMMARY:Employer Branding Is Broken — Here’s What Actually Works in CEE
LOCATION:Central European University, Nádor utca 15., 1051 Budapest, Hungary
END:VEVENT
END:VCALENDAR
