BEGIN:VCALENDAR
VERSION:2.0
PRODID:-//YourBrand//NONSGML v1.0//HU
CALSCALE:GREGORIAN
BEGIN:VEVENT
UID:event-4279@recruitechcee.com
DTSTAMP:20260421T225127Z
DTSTART:20260528T140500Z
DTEND:20260528T143000Z
SUMMARY:TA TECH implementation failures
LOCATION:Central European University, Nádor utca 15., 1051 Budapest, Hungary
DESCRIPTION:TA tech implementation failures are primarily driven by a fundamental misalignment in approach: around 70% fail because they are treated as IT projects rather than true business transformations. These challenges will be addressed through an Erste Bank case study, highlighting how inadequate planning, unrealistic timelines, limited testing, and significant cost overruns can collectively derail implementation success and impact overall business outcomes
END:VEVENT
END:VCALENDAR
