BEGIN:VCALENDAR
VERSION:2.0
PRODID:-//YourBrand//NONSGML v1.0//HU
CALSCALE:GREGORIAN
BEGIN:VEVENT
UID:event-1406@recruitechcee.com
DTSTAMP:20260421T224647Z
DTSTART:20260528T153500Z
DTEND:20260528T160500Z
SUMMARY:How to build a recruitment partnership that truly scales?
LOCATION:Central European University, Nádor utca 15., 1051 Budapest, Hungary
DESCRIPTION:In this executive-level case study, BNP Paribas SA and Antal reveal four key indicators behind a high-impact RPO collaboration - from market intelligence and strategic design to operational delivery, governance and measurable business outcomes.
END:VEVENT
END:VCALENDAR
