BEGIN:VCALENDAR
VERSION:2.0
PRODID:-//YourBrand//NONSGML v1.0//HU
CALSCALE:GREGORIAN
BEGIN:VEVENT
UID:event-1402@recruitechcee.com
DTSTAMP:20260421T161327Z
DTSTART:20260528T144000Z
DTEND:20260528T150500Z
SUMMARY:Raising the Hiring Standard: Lessons from Our Bar Raiser Journey
LOCATION:Central European University, Nádor utca 15., 1051 Budapest, Hungary
DESCRIPTION:Fast-growing organizations often struggle with interview inconsistency, urgency bias, and misalignment with culture. Infobip addressed these challenges by implementing a Bar Raiser program, designed and delivered in partnership with external hiring and leadership expertise experienced in building similar systems at scale. In this talk, we’ll unpack our two-year journey: selecting and training Bar Raisers, reshaping interview loops, embedding structured processes, and measuring outcomes. You’ll see how a neutral evaluation layer helped improve hiring quality, reinforce culture alignment, and create more consistent decision-making, supported by real data and practical implementation lessons.
END:VEVENT
END:VCALENDAR
