BEGIN:VCALENDAR
VERSION:2.0
PRODID:-//YourBrand//NONSGML v1.0//HU
CALSCALE:GREGORIAN
BEGIN:VEVENT
UID:event-1398@recruitechcee.com
DTSTAMP:20260421T220901Z
DTSTART:20260528T120000Z
DTEND:20260528T122500Z
SUMMARY:Increasing candidate experience with AI support
LOCATION:Central European University, Nádor utca 15., 1051 Budapest, Hungary
DESCRIPTION:This presentation explores how AI can enhance the candidate experience by providing timely, intelligent support throughout the hiring process. It highlights how AI-driven tools create real value for hiring managers by delivering immediate assistance when and where it’s needed most, improving both efficiency and engagement.
END:VEVENT
END:VCALENDAR
