BEGIN:VCALENDAR
VERSION:2.0
PRODID:-//YourBrand//NONSGML v1.0//HU
CALSCALE:GREGORIAN
BEGIN:VEVENT
UID:event-1348@recruitechcee.com
DTSTAMP:20260421T224935Z
DTSTART:20260528T153500Z
DTEND:20260528T160500Z
SUMMARY:AI Skills Assessment
LOCATION:Central European University, Nádor utca 15., 1051 Budapest, Hungary
DESCRIPTION:“By 2030, over 90% of jobs will require AI literacy.”\nAre you ready? In this session, we’ll uncover:\n\nWhat counts as AI skills (hint: it’s more than coding)\nThe human edge in an AI-driven world—adaptability, critical thinking, collaboration\nHow to assess not just skills, but potential—because learning agility is the ultimate superpower\n\nJoin me to explore how to spot future-ready talent and why the ability to learn fast beats knowing it all today.
END:VEVENT
END:VCALENDAR
