BEGIN:VCALENDAR
VERSION:2.0
PRODID:-//YourBrand//NONSGML v1.0//HU
CALSCALE:GREGORIAN
BEGIN:VEVENT
UID:event-1114@recruitechcee.com
DTSTAMP:20260421T224237Z
DTSTART:20260529T113500Z
DTEND:20260529T120000Z
SUMMARY:Recruitment Analytics: Turning Data into Action
LOCATION:Central European University, Nádor utca 15., 1051 Budapest, Hungary
DESCRIPTION:This presentation focuses on how recruitment analytics can help organizations understand and optimize their hiring funnels. It covers key metrics around cost, quality, and conversion, showing how data-driven insights can identify bottlenecks, improve efficiency, and enhance overall hiring performance.
END:VEVENT
END:VCALENDAR
