BEGIN:VCALENDAR
VERSION:2.0
PRODID:-//YourBrand//NONSGML v1.0//HU
CALSCALE:GREGORIAN
BEGIN:VEVENT
UID:event-1110@recruitechcee.com
DTSTAMP:20260421T215631Z
DTSTART:20260528T144000Z
DTEND:20260528T150500Z
SUMMARY:Centralized vs. Local Talent Acquisition: Pros and Cons
LOCATION:Central European University, Nádor utca 15., 1051 Budapest, Hungary
DESCRIPTION:Join Ivan Tomko as he explores the pros and cons of having a centralized Talent Acquisition hub compared to having Talent Acquisition Partners spread across the EMEA region. Discover insights on how each approach impacts efficiency, local expertise, and overall talent strategy!
END:VEVENT
END:VCALENDAR
