BEGIN:VCALENDAR
VERSION:2.0
PRODID:-//YourBrand//NONSGML v1.0//HU
CALSCALE:GREGORIAN
BEGIN:VEVENT
UID:event-1106@recruitechcee.com
DTSTAMP:20260421T141324Z
DTSTART:20260528T101000Z
DTEND:20260528T105500Z
SUMMARY:The Future of Recruitment: AI, Automation, and the Human Touch
LOCATION:Central European University, Nádor utca 15., 1051 Budapest, Hungary
DESCRIPTION:This presentation explores how automation and AI are transforming the recruitment profession and what the next 3–5 years may hold for talent professionals. It examines emerging technologies, shifting recruiter roles, and the balance between human insight and digital efficiency—asking the critical question: is the future of recruitment brighter than ever, or are we facing a fundamental shift in the profession itself?
END:VEVENT
END:VCALENDAR
