BEGIN:VCALENDAR
VERSION:2.0
PRODID:-//YourBrand//NONSGML v1.0//HU
CALSCALE:GREGORIAN
BEGIN:VEVENT
UID:event-1102@recruitechcee.com
DTSTAMP:20260421T223958Z
DTSTART:20260529T090000Z
DTEND:20260529T093000Z
SUMMARY:The new position and definition of Talent Acquisition &#8211; Case study
LOCATION:Central European University, Nádor utca 15., 1051 Budapest, Hungary
DESCRIPTION:In this session we examine the evolving role and definition of Talent Acquisition through a practical case study. We explore a strategic approach that integrates internal mobility, skill-based hiring, and market sourcing to drive organizational growth and align talent practices with long-term business objectives.
END:VEVENT
END:VCALENDAR
