BEGIN:VCALENDAR
VERSION:2.0
PRODID:-//YourBrand//NONSGML v1.0//HU
CALSCALE:GREGORIAN
BEGIN:VEVENT
UID:event-1094@recruitechcee.com
DTSTAMP:20260421T225314Z
DTSTART:20260528T140500Z
DTEND:20260528T143000Z
SUMMARY:Hiring for Soul in a World of Code and AI
LOCATION:Central European University, Nádor utca 15., 1051 Budapest, Hungary
DESCRIPTION:In an era where AI and automation dominate recruitment, there’s a growing danger of reducing people to algorithms, assessments, and lines of code. Yet what sets thriving companies apart isn’t just technical brilliance—it’s the uniquely human qualities that machines cannot replicate: creativity, empathy, resilience, and vision.\nThis session will challenge conventional approaches to tech hiring by asking: how do we recruit not only for skills, but for “soul”? Attendees will gain practical insights into blending AI-driven processes with human-centered evaluation, designing recruitment journeys that uncover values and creativity, and building teams that innovate with both head and heart.
END:VEVENT
END:VCALENDAR
